BEGIN:VCALENDAR
VERSION:2.0
PRODID:CD Real Estate Pty Ltd Open for Inspection - Shining with as-new
 presentation
BEGIN:VTIMEZONE
TZID:Australia/Melbourne
BEGIN:STANDARD
DTSTART:20210227T142000
TZOFFSETTO:+1100
TZNAME:GMT+11
END:STANDARD
END:VTIMEZONE
BEGIN:VEVENT
UID:6038ccb6d871b
DTSTART;TZID=Australia/Melbourne:20210227T142000
SEQUENCE:0
TRANSP:OPAQUE
DTEND;TZID=Australia/Melbourne:20210227T143500
LOCATION:3/2A Rogers Avenue Brighton East VIC
SUMMARY:CD Real Estate Pty Ltd Open for Inspection - 3/2A Rogers Avenue
 Brighton East VIC
CLASS:PUBLIC
DESCRIPTION:Open for Inspection: 3/2A Rogers Avenue Brighton East VIC
 Saturday 27th Feb 14:20pm - 14:35pm Click the link for full listing
 information:
 https://www.cdrealty.com.au/lease/vic/bayside/brighton-east/residential/unit/6312370
DTSTAMP:20210226T102558
END:VEVENT
END:VCALENDAR