BEGIN:VCALENDAR
VERSION:2.0
PRODID:CD Real Estate Pty Ltd Open for Inspection - IN THE HEART OF BOX
 HILL
BEGIN:VTIMEZONE
TZID:Australia/Melbourne
BEGIN:STANDARD
DTSTART:20210227T123000
TZOFFSETTO:+1100
TZNAME:GMT+11
END:STANDARD
END:VTIMEZONE
BEGIN:VEVENT
UID:6038cc900968c
DTSTART;TZID=Australia/Melbourne:20210227T123000
SEQUENCE:0
TRANSP:OPAQUE
DTEND;TZID=Australia/Melbourne:20210227T124500
LOCATION:1/23 Thames Street Box Hill VIC
SUMMARY:CD Real Estate Pty Ltd Open for Inspection - 1/23 Thames Street
 Box Hill VIC
CLASS:PUBLIC
DESCRIPTION:Open for Inspection: 1/23 Thames Street Box Hill VIC Saturday
 27th Feb 12:30pm - 12:45pm Click the link for full listing information:
 https://www.cdrealty.com.au/lease/vic/east/box-hill/residential/house/6319194
DTSTAMP:20210226T102520
END:VEVENT
END:VCALENDAR