BEGIN:VCALENDAR
VERSION:2.0
PRODID:CD Real Estate Pty Ltd Open for Inspection - TOWNHOUSE LUXURY -
 FULLY FURNISHED
BEGIN:VTIMEZONE
TZID:Australia/Melbourne
BEGIN:STANDARD
DTSTART:20210227T113000
TZOFFSETTO:+1100
TZNAME:GMT+11
END:STANDARD
END:VTIMEZONE
BEGIN:VEVENT
UID:6038cc808c7b8
DTSTART;TZID=Australia/Melbourne:20210227T113000
SEQUENCE:0
TRANSP:OPAQUE
DTEND;TZID=Australia/Melbourne:20210227T114500
LOCATION:5/142 Burwood Highway Burwood East VIC
SUMMARY:CD Real Estate Pty Ltd Open for Inspection - 5/142 Burwood Highway
 Burwood East VIC
CLASS:PUBLIC
DESCRIPTION:Open for Inspection: 5/142 Burwood Highway Burwood East VIC
 Saturday 27th Feb 11:30am - 11:45am Click the link for full listing
 information:
 https://www.cdrealty.com.au/lease/vic/east/burwood-east/residential/townhouse/5935106
DTSTAMP:20210226T102504
END:VEVENT
END:VCALENDAR