BEGIN:VCALENDAR
VERSION:2.0
PRODID:CD Real Estate Pty Ltd Open for Inspection - SPACIOUS FAMILY HOME
BEGIN:VTIMEZONE
TZID:Australia/Melbourne
BEGIN:STANDARD
DTSTART:20210227T102500
TZOFFSETTO:+1100
TZNAME:GMT+11
END:STANDARD
END:VTIMEZONE
BEGIN:VEVENT
UID:6038cc6b85491
DTSTART;TZID=Australia/Melbourne:20210227T102500
SEQUENCE:0
TRANSP:OPAQUE
DTEND;TZID=Australia/Melbourne:20210227T104000
LOCATION:10 Savannah Place Chadstone VIC
SUMMARY:CD Real Estate Pty Ltd Open for Inspection - 10 Savannah Place
 Chadstone VIC
CLASS:PUBLIC
DESCRIPTION:Open for Inspection: 10 Savannah Place Chadstone VIC Saturday
 27th Feb 10:25am - 10:40am Click the link for full listing information:
 https://www.cdrealty.com.au/lease/vic/east/chadstone/residential/house/6319233
DTSTAMP:20210226T102443
END:VEVENT
END:VCALENDAR