BEGIN:VCALENDAR
VERSION:2.0
PRODID:CD Real Estate Pty Ltd Open for Inspection - Two bedroom villa unit
 in the heart of Glen Iris!
BEGIN:VTIMEZONE
TZID:Australia/Melbourne
BEGIN:STANDARD
DTSTART:20210227T132500
TZOFFSETTO:+1100
TZNAME:GMT+11
END:STANDARD
END:VTIMEZONE
BEGIN:VEVENT
UID:6038cca2e0ead
DTSTART;TZID=Australia/Melbourne:20210227T132500
SEQUENCE:0
TRANSP:OPAQUE
DTEND;TZID=Australia/Melbourne:20210227T134000
LOCATION:3/288 Warrigal Road Road Glen Iris VIC
SUMMARY:CD Real Estate Pty Ltd Open for Inspection - 3/288 Warrigal Road
 Road Glen Iris VIC
CLASS:PUBLIC
DESCRIPTION:Open for Inspection: 3/288 Warrigal Road Road Glen Iris VIC
 Saturday 27th Feb 13:25pm - 13:40pm Click the link for full listing
 information:
 https://www.cdrealty.com.au/lease/vic/east/glen-iris/residential/unit/5935031
DTSTAMP:20210226T102538
END:VEVENT
END:VCALENDAR