BEGIN:VCALENDAR
VERSION:2.0
PRODID:CD Real Estate Pty Ltd Open for Inspection - NESTLED IN HAWTHORN
BEGIN:VTIMEZONE
TZID:Australia/Melbourne
BEGIN:STANDARD
DTSTART:20210227T131000
TZOFFSETTO:+1100
TZNAME:GMT+11
END:STANDARD
END:VTIMEZONE
BEGIN:VEVENT
UID:6038cc9e7c3d5
DTSTART;TZID=Australia/Melbourne:20210227T131000
SEQUENCE:0
TRANSP:OPAQUE
DTEND;TZID=Australia/Melbourne:20210227T132500
LOCATION:17/36 Anderson Road Hawthorn East VIC
SUMMARY:CD Real Estate Pty Ltd Open for Inspection - 17/36 Anderson Road
 Hawthorn East VIC
CLASS:PUBLIC
DESCRIPTION:Open for Inspection: 17/36 Anderson Road Hawthorn East VIC
 Saturday 27th Feb 13:10pm - 13:25pm Click the link for full listing
 information:
 https://www.cdrealty.com.au/lease/vic/east/hawthorn-east/residential/apartment/6302754
DTSTAMP:20210226T102534
END:VEVENT
END:VCALENDAR