BEGIN:VCALENDAR
VERSION:2.0
PRODID:CD Real Estate Pty Ltd Open for Inspection - LOCATION AT IT'S BEST
BEGIN:VTIMEZONE
TZID:Australia/Melbourne
BEGIN:STANDARD
DTSTART:20210227T100000
TZOFFSETTO:+1100
TZNAME:GMT+11
END:STANDARD
END:VTIMEZONE
BEGIN:VEVENT
UID:6038cc63abce2
DTSTART;TZID=Australia/Melbourne:20210227T100000
SEQUENCE:0
TRANSP:OPAQUE
DTEND;TZID=Australia/Melbourne:20210227T101500
LOCATION:5/736-738 Warrigal Road Malvern East VIC
SUMMARY:CD Real Estate Pty Ltd Open for Inspection - 5/736-738 Warrigal
 Road Malvern East VIC
CLASS:PUBLIC
DESCRIPTION:Open for Inspection: 5/736-738 Warrigal Road Malvern East VIC
 Saturday 27th Feb 10:00am - 10:15am Click the link for full listing
 information:
 https://www.cdrealty.com.au/lease/vic/east/malvern-east/residential/townhouse/6076925
DTSTAMP:20210226T102435
END:VEVENT
END:VCALENDAR