BEGIN:VCALENDAR
VERSION:2.0
PRODID:CD Real Estate Pty Ltd Open for Inspection - Contemporary living!
BEGIN:VTIMEZONE
TZID:Australia/Melbourne
BEGIN:STANDARD
DTSTART:20210301T160000
TZOFFSETTO:+1100
TZNAME:GMT+11
END:STANDARD
END:VTIMEZONE
BEGIN:VEVENT
UID:6038ccc7419bf
DTSTART;TZID=Australia/Melbourne:20210301T160000
SEQUENCE:0
TRANSP:OPAQUE
DTEND;TZID=Australia/Melbourne:20210301T161500
LOCATION:1/21 Lemana Crescent Mount Waverley VIC
SUMMARY:CD Real Estate Pty Ltd Open for Inspection - 1/21 Lemana Crescent
 Mount Waverley VIC
CLASS:PUBLIC
DESCRIPTION:Open for Inspection: 1/21 Lemana Crescent Mount Waverley VIC
 Monday 1st Mar 16:00pm - 16:15pm Click the link for full listing
 information:
 https://www.cdrealty.com.au/lease/vic/east/mount-waverley/residential/townhouse/5934957
DTSTAMP:20210226T102615
END:VEVENT
END:VCALENDAR