BEGIN:VCALENDAR
VERSION:2.0
PRODID:CD Real Estate Pty Ltd Open for Inspection - Great Location
BEGIN:VTIMEZONE
TZID:Australia/Melbourne
BEGIN:STANDARD
DTSTART:20210227T130000
TZOFFSETTO:+1100
TZNAME:GMT+11
END:STANDARD
END:VTIMEZONE
BEGIN:VEVENT
UID:6038cc9aa9de7
DTSTART;TZID=Australia/Melbourne:20210227T130000
SEQUENCE:0
TRANSP:OPAQUE
DTEND;TZID=Australia/Melbourne:20210227T131500
LOCATION:2/23 Warrigal Road Surrey Hills VIC
SUMMARY:CD Real Estate Pty Ltd Open for Inspection - 2/23 Warrigal Road
 Surrey Hills VIC
CLASS:PUBLIC
DESCRIPTION:Open for Inspection: 2/23 Warrigal Road Surrey Hills VIC
 Saturday 27th Feb 13:00pm - 13:15pm Click the link for full listing
 information:
 https://www.cdrealty.com.au/lease/vic/east/surrey-hills/residential/unit/5934993
DTSTAMP:20210226T102530
END:VEVENT
END:VCALENDAR