BEGIN:VCALENDAR
VERSION:2.0
PRODID:CD Real Estate Pty Ltd Open for Inspection - RESIDE AT UPPER WEST
 SIDE
BEGIN:VTIMEZONE
TZID:Australia/Melbourne
BEGIN:STANDARD
DTSTART:20210226T130000
TZOFFSETTO:+1100
TZNAME:GMT+11
END:STANDARD
END:VTIMEZONE
BEGIN:VEVENT
UID:6038cc600bb3c
DTSTART;TZID=Australia/Melbourne:20210226T130000
SEQUENCE:0
TRANSP:OPAQUE
DTEND;TZID=Australia/Melbourne:20210226T131500
LOCATION:1906/11 Rose Lane Melbourne VIC
SUMMARY:CD Real Estate Pty Ltd Open for Inspection - 1906/11 Rose Lane
 Melbourne VIC
CLASS:PUBLIC
DESCRIPTION:Open for Inspection: 1906/11 Rose Lane Melbourne VIC Friday
 26th Feb 13:00pm - 13:15pm Click the link for full listing information:
 https://www.cdrealty.com.au/lease/vic/inner-city/melbourne/residential/apartment/6280135
DTSTAMP:20210226T102432
END:VEVENT
END:VCALENDAR