BEGIN:VCALENDAR
VERSION:2.0
PRODID:CD Real Estate Pty Ltd Open for Inspection - BED, BATH & BEYOND
BEGIN:VTIMEZONE
TZID:Australia/Melbourne
BEGIN:STANDARD
DTSTART:20210227T120500
TZOFFSETTO:+1100
TZNAME:GMT+11
END:STANDARD
END:VTIMEZONE
BEGIN:VEVENT
UID:6038cc89c6608
DTSTART;TZID=Australia/Melbourne:20210227T120500
SEQUENCE:0
TRANSP:OPAQUE
DTEND;TZID=Australia/Melbourne:20210227T122000
LOCATION:29 Hull Street Richmond VIC
SUMMARY:CD Real Estate Pty Ltd Open for Inspection - 29 Hull Street
 Richmond VIC
CLASS:PUBLIC
DESCRIPTION:Open for Inspection: 29 Hull Street Richmond VIC Saturday 27th
 Feb 12:05pm - 12:20pm Click the link for full listing information:
 https://www.cdrealty.com.au/lease/vic/inner-city/richmond/residential/townhouse/5935013
DTSTAMP:20210226T102513
END:VEVENT
END:VCALENDAR