BEGIN:VCALENDAR
VERSION:2.0
PRODID:CD Real Estate Pty Ltd Open for Inspection - EASY, LOW MAINTENANCE
 LIVING
BEGIN:VTIMEZONE
TZID:Australia/Melbourne
BEGIN:STANDARD
DTSTART:20210227T105000
TZOFFSETTO:+1100
TZNAME:GMT+11
END:STANDARD
END:VTIMEZONE
BEGIN:VEVENT
UID:6038cc72a9cb7
DTSTART;TZID=Australia/Melbourne:20210227T105000
SEQUENCE:0
TRANSP:OPAQUE
DTEND;TZID=Australia/Melbourne:20210227T110500
LOCATION:109/31-33 Taylor Street Moonee Ponds VIC
SUMMARY:CD Real Estate Pty Ltd Open for Inspection - 109/31-33 Taylor
 Street Moonee Ponds VIC
CLASS:PUBLIC
DESCRIPTION:Open for Inspection: 109/31-33 Taylor Street Moonee Ponds VIC
 Saturday 27th Feb 10:50am - 11:05am Click the link for full listing
 information:
 https://www.cdrealty.com.au/lease/vic/north/moonee-ponds/residential/apartment/6313114
DTSTAMP:20210226T102450
END:VEVENT
END:VCALENDAR