BEGIN:VCALENDAR
VERSION:2.0
PRODID:CD Real Estate Pty Ltd Open for Inspection - Modern Apartment In A
 Convenient Location (Furnished)
BEGIN:VTIMEZONE
TZID:Australia/Melbourne
BEGIN:STANDARD
DTSTART:20210227T100000
TZOFFSETTO:+1100
TZNAME:GMT+11
END:STANDARD
END:VTIMEZONE
BEGIN:VEVENT
UID:6038cc67bd291
DTSTART;TZID=Australia/Melbourne:20210227T100000
SEQUENCE:0
TRANSP:OPAQUE
DTEND;TZID=Australia/Melbourne:20210227T101500
LOCATION:409/277 Raglan Street Preston VIC
SUMMARY:CD Real Estate Pty Ltd Open for Inspection - 409/277 Raglan Street
 Preston VIC
CLASS:PUBLIC
DESCRIPTION:Open for Inspection: 409/277 Raglan Street Preston VIC
 Saturday 27th Feb 10:00am - 10:15am Click the link for full listing
 information:
 https://www.cdrealty.com.au/lease/vic/north/preston/residential/apartment/6279902
DTSTAMP:20210226T102439
END:VEVENT
END:VCALENDAR