BEGIN:VCALENDAR
VERSION:2.0
PRODID:CD Real Estate Pty Ltd Auction - CHARLTON GLORY 
 OPPORTUNITY KNOCKS
BEGIN:VTIMEZONE
TZID:Australia/Melbourne
BEGIN:STANDARD
DTSTART:20210320T140000
TZOFFSETTO:+1100
TZNAME:GMT+11
END:STANDARD
END:VTIMEZONE
BEGIN:VEVENT
UID:6038cdf113e85
DTSTART;TZID=Australia/Melbourne:20210320T140000
PRIORITY:1
SEQUENCE:0
TRANSP:OPAQUE
DTEND;TZID=Australia/Melbourne:20210320T150000
LOCATION:14 Charlton Street Mount Waverley VIC
ORGANIZER;CN="Carmela Dimasi":mailto:cdimasi@cdrealty.com.au
SUMMARY;LANGUAGE=en-au:CD Real Estate Pty Ltd Auction - 14 Charlton Street
 Mount Waverley VIC
CLASS:PUBLIC
DESCRIPTION:Auction: 14 Charlton Street Mount Waverley VIC, 20th Mar
 02:00PM Click the link for full listing information:
 https://www.cdrealty.com.au/sale/vic/east/mount-waverley/residential/house/6322025
DTSTAMP:20210226T103113
END:VEVENT
END:VCALENDAR