BEGIN:VCALENDAR
VERSION:2.0
PRODID:CD Real Estate Pty Ltd Open for Inspection - CHARLTON GLORY 
 OPPORTUNITY KNOCKS
BEGIN:VTIMEZONE
TZID:Australia/Melbourne
BEGIN:STANDARD
DTSTART:20210317T110000
TZOFFSETTO:+1100
TZNAME:GMT+11
END:STANDARD
END:VTIMEZONE
BEGIN:VEVENT
UID:6038cceba2558
DTSTART;TZID=Australia/Melbourne:20210317T110000
SEQUENCE:0
TRANSP:OPAQUE
DTEND;TZID=Australia/Melbourne:20210317T113000
LOCATION:14 Charlton Street Mount Waverley VIC
SUMMARY:CD Real Estate Pty Ltd Open for Inspection - 14 Charlton Street
 Mount Waverley VIC
CLASS:PUBLIC
DESCRIPTION:Open for Inspection: 14 Charlton Street Mount Waverley VIC
 Wednesday 17th Mar 11:00am - 11:30am Click the link for full listing
 information:
 https://www.cdrealty.com.au/sale/vic/east/mount-waverley/residential/house/6322025
DTSTAMP:20210226T102651
END:VEVENT
END:VCALENDAR